BEGIN:VCALENDAR
VERSION:2.0
PRODID:-//Förderschule Neuenhagen - ECPv6.15.20//NONSGML v1.0//EN
CALSCALE:GREGORIAN
METHOD:PUBLISH
X-WR-CALNAME:Förderschule Neuenhagen
X-ORIGINAL-URL:https://foerderschule-neuenhagen.de
X-WR-CALDESC:Veranstaltungen für Förderschule Neuenhagen
REFRESH-INTERVAL;VALUE=DURATION:PT1H
X-Robots-Tag:noindex
X-PUBLISHED-TTL:PT1H
BEGIN:VTIMEZONE
TZID:Europe/Berlin
BEGIN:DAYLIGHT
TZOFFSETFROM:+0100
TZOFFSETTO:+0200
TZNAME:CEST
DTSTART:20250330T010000
END:DAYLIGHT
BEGIN:STANDARD
TZOFFSETFROM:+0200
TZOFFSETTO:+0100
TZNAME:CET
DTSTART:20251026T010000
END:STANDARD
BEGIN:DAYLIGHT
TZOFFSETFROM:+0100
TZOFFSETTO:+0200
TZNAME:CEST
DTSTART:20260329T010000
END:DAYLIGHT
BEGIN:STANDARD
TZOFFSETFROM:+0200
TZOFFSETTO:+0100
TZNAME:CET
DTSTART:20261025T010000
END:STANDARD
BEGIN:DAYLIGHT
TZOFFSETFROM:+0100
TZOFFSETTO:+0200
TZNAME:CEST
DTSTART:20270328T010000
END:DAYLIGHT
BEGIN:STANDARD
TZOFFSETFROM:+0200
TZOFFSETTO:+0100
TZNAME:CET
DTSTART:20271031T010000
END:STANDARD
END:VTIMEZONE
BEGIN:VEVENT
DTSTART;TZID=Europe/Berlin:20260421T100000
DTEND;TZID=Europe/Berlin:20260421T120000
DTSTAMP:20260420T044919
CREATED:20251015T032415Z
LAST-MODIFIED:20251015T032415Z
UID:1427-1776765600-1776772800@foerderschule-neuenhagen.de
SUMMARY:Lesewettbewerb der Primarstufe
DESCRIPTION:
URL:https://foerderschule-neuenhagen.de/event/lesewettbewerb-der-primarstufe/
END:VEVENT
BEGIN:VEVENT
DTSTART;TZID=Europe/Berlin:20260506T150000
DTEND;TZID=Europe/Berlin:20260506T170000
DTSTAMP:20260420T044919
CREATED:20251015T032540Z
LAST-MODIFIED:20251015T032540Z
UID:1431-1778079600-1778086800@foerderschule-neuenhagen.de
SUMMARY:5. Lehrerkonferenz
DESCRIPTION:
URL:https://foerderschule-neuenhagen.de/event/5-lehrerkonferenz-2/
END:VEVENT
BEGIN:VEVENT
DTSTART;VALUE=DATE:20260526
DTEND;VALUE=DATE:20260527
DTSTAMP:20260420T044919
CREATED:20251015T034447Z
LAST-MODIFIED:20251015T034447Z
UID:1455-1779753600-1779839999@foerderschule-neuenhagen.de
SUMMARY:Pfingstferien
DESCRIPTION:
URL:https://foerderschule-neuenhagen.de/event/pfingstferien/
END:VEVENT
BEGIN:VEVENT
DTSTART;VALUE=DATE:20260601
DTEND;VALUE=DATE:20260606
DTSTAMP:20260420T044919
CREATED:20251015T032845Z
LAST-MODIFIED:20251015T032845Z
UID:1433-1780272000-1780703999@foerderschule-neuenhagen.de
SUMMARY:Projektwoche "Rückblick"
DESCRIPTION:Die diesjährige Projektwoche wird unter dem Motto Rückblick auf Vergangenes stehen. Wir werden uns mit Themen\, die schon einmal in den letzten Jahren behandelt wurden beschäftigen. Jede Klasse darf hier frei wählen.
URL:https://foerderschule-neuenhagen.de/event/projektwoche-rueckblick/
END:VEVENT
BEGIN:VEVENT
DTSTART;TZID=Europe/Berlin:20260606T100000
DTEND;TZID=Europe/Berlin:20260606T130000
DTSTAMP:20260420T044919
CREATED:20251015T033408Z
LAST-MODIFIED:20251015T033408Z
UID:1435-1780740000-1780750800@foerderschule-neuenhagen.de
SUMMARY:Schulfest
DESCRIPTION:Das Schulfest ist der unumstrittene Höhepunkt unserer Projektwoche. Heute präsentieren alle Klassen\, gemeinsam mit einer Kooperationsklasse der Falladagrundschule\, ihre Projektwochenergebnisse in unterschiedlicher Weise. Auf dem Gelände wird es außerdem eine Hüpfburg\, einen Schminkstand und viels weitere geben. Auch für das leibliche Wohl wird gesorgt sein. Es wird unser letztes Schulfest in Neuenhagen sein\, deshalb werden wir den Tag nochmal richtig genießen.
URL:https://foerderschule-neuenhagen.de/event/schulfest-2/
END:VEVENT
BEGIN:VEVENT
DTSTART;VALUE=DATE:20260608
DTEND;VALUE=DATE:20260609
DTSTAMP:20260420T044919
CREATED:20251015T033454Z
LAST-MODIFIED:20251015T033454Z
UID:1437-1780876800-1780963199@foerderschule-neuenhagen.de
SUMMARY:schulfreier Tag
DESCRIPTION:
URL:https://foerderschule-neuenhagen.de/event/schulfreier-tag-2/
END:VEVENT
BEGIN:VEVENT
DTSTART;VALUE=DATE:20260609
DTEND;VALUE=DATE:20260704
DTSTAMP:20260420T044919
CREATED:20251015T033547Z
LAST-MODIFIED:20251015T033547Z
UID:1439-1780963200-1783123199@foerderschule-neuenhagen.de
SUMMARY:Schwimmlager der Klassen 7-12
DESCRIPTION:
URL:https://foerderschule-neuenhagen.de/event/schwimmlager-der-klassen-7-12/
END:VEVENT
BEGIN:VEVENT
DTSTART;TZID=Europe/Berlin:20260622T100000
DTEND;TZID=Europe/Berlin:20260622T120000
DTSTAMP:20260420T044919
CREATED:20251015T033636Z
LAST-MODIFIED:20251015T033636Z
UID:1441-1782122400-1782129600@foerderschule-neuenhagen.de
SUMMARY:Sportfest Primarstufe
DESCRIPTION:
URL:https://foerderschule-neuenhagen.de/event/sportfest-primarstufe/
END:VEVENT
BEGIN:VEVENT
DTSTART;TZID=Europe/Berlin:20260624T150000
DTEND;TZID=Europe/Berlin:20260624T170000
DTSTAMP:20260420T044919
CREATED:20251015T033856Z
LAST-MODIFIED:20251015T033856Z
UID:1443-1782313200-1782320400@foerderschule-neuenhagen.de
SUMMARY:6. Lehrerkonferenz
DESCRIPTION:
URL:https://foerderschule-neuenhagen.de/event/6-lehrerkonferenz-2/
END:VEVENT
BEGIN:VEVENT
DTSTART;TZID=Europe/Berlin:20260630T180000
DTEND;TZID=Europe/Berlin:20260630T200000
DTSTAMP:20260420T044919
CREATED:20251015T034000Z
LAST-MODIFIED:20251015T034000Z
UID:1445-1782842400-1782849600@foerderschule-neuenhagen.de
SUMMARY:2. Eltern- und Schulkonferenz
DESCRIPTION:
URL:https://foerderschule-neuenhagen.de/event/2-eltern-und-schulkonferenz/
END:VEVENT
BEGIN:VEVENT
DTSTART;TZID=Europe/Berlin:20260706T100000
DTEND;TZID=Europe/Berlin:20260706T120000
DTSTAMP:20260420T044919
CREATED:20251015T034039Z
LAST-MODIFIED:20251015T034039Z
UID:1447-1783332000-1783339200@foerderschule-neuenhagen.de
SUMMARY:Schnuppertag
DESCRIPTION:
URL:https://foerderschule-neuenhagen.de/event/schnuppertag/
END:VEVENT
BEGIN:VEVENT
DTSTART;VALUE=DATE:20260707
DTEND;VALUE=DATE:20260708
DTSTAMP:20260420T044919
CREATED:20251015T034154Z
LAST-MODIFIED:20251015T034154Z
UID:1449-1783382400-1783468799@foerderschule-neuenhagen.de
SUMMARY:Verabschiedung der Schulabgängerinnen und Schulabgänger
DESCRIPTION:
URL:https://foerderschule-neuenhagen.de/event/verabschiedung-der-schulabgaengerinnen-und-schulabgaenger/
END:VEVENT
BEGIN:VEVENT
DTSTART;VALUE=DATE:20260709
DTEND;VALUE=DATE:20260824
DTSTAMP:20260420T044919
CREATED:20251015T034535Z
LAST-MODIFIED:20251015T034535Z
UID:1457-1783555200-1787529599@foerderschule-neuenhagen.de
SUMMARY:Sommerferien
DESCRIPTION:
URL:https://foerderschule-neuenhagen.de/event/sommerferien-3/
END:VEVENT
END:VCALENDAR